BEGIN:VCALENDAR
VERSION:2.0
PRODID:-//Winnebago Area Literacy Council - ECPv6.15.20//NONSGML v1.0//EN
CALSCALE:GREGORIAN
METHOD:PUBLISH
X-WR-CALNAME:Winnebago Area Literacy Council
X-ORIGINAL-URL:https://winlit.org
X-WR-CALDESC:Events for Winnebago Area Literacy Council
REFRESH-INTERVAL;VALUE=DURATION:PT1H
X-Robots-Tag:noindex
X-PUBLISHED-TTL:PT1H
BEGIN:VTIMEZONE
TZID:UTC
BEGIN:STANDARD
TZOFFSETFROM:+0000
TZOFFSETTO:+0000
TZNAME:UTC
DTSTART:20240101T000000
END:STANDARD
END:VTIMEZONE
BEGIN:VTIMEZONE
TZID:America/Chicago
BEGIN:DAYLIGHT
TZOFFSETFROM:-0600
TZOFFSETTO:-0500
TZNAME:CDT
DTSTART:20250309T080000
END:DAYLIGHT
BEGIN:STANDARD
TZOFFSETFROM:-0500
TZOFFSETTO:-0600
TZNAME:CST
DTSTART:20251102T070000
END:STANDARD
BEGIN:DAYLIGHT
TZOFFSETFROM:-0600
TZOFFSETTO:-0500
TZNAME:CDT
DTSTART:20260308T080000
END:DAYLIGHT
BEGIN:STANDARD
TZOFFSETFROM:-0500
TZOFFSETTO:-0600
TZNAME:CST
DTSTART:20261101T070000
END:STANDARD
BEGIN:DAYLIGHT
TZOFFSETFROM:-0600
TZOFFSETTO:-0500
TZNAME:CDT
DTSTART:20270314T080000
END:DAYLIGHT
BEGIN:STANDARD
TZOFFSETFROM:-0500
TZOFFSETTO:-0600
TZNAME:CST
DTSTART:20271107T070000
END:STANDARD
END:VTIMEZONE
BEGIN:VEVENT
DTSTART;TZID=UTC:20260218T163000
DTEND;TZID=UTC:20260218T180000
DTSTAMP:20260423T045223
CREATED:20251216T222722Z
LAST-MODIFIED:20260223T192238Z
UID:5310-1771432200-1771437600@winlit.org
SUMMARY:Navigating Global Admissions: The International Student Journey to UW-Oshkosh w/ Raiden Montero
DESCRIPTION:Join us in welcoming Raiden Montero\, UWO International Admissions& Recruitment Coordinator\, for our first Immigration Learning Circle of the 2026 year. \nLearn more about the journey international students take to UWO as F-1 visa holders–from navigating complex language barriers that can make the process challenging. This talk highlights efforts to make international admissions more accessible and examines how global politics continues to impact students’ experiences. \n 
URL:https://winlit.org/event/navigating-global-admissions-the-international-student-journey-to-uw-oshkosh-w-raiden-montero/
LOCATION:WALC Learning Center\, 111 N Main St\, Suite 202\, Oshkosh\, WI\, 54901
CATEGORIES:Immigration Learning Circle
ORGANIZER;CN="The Winnebago Area Literacy Council":MAILTO:info@winlit.org
END:VEVENT
BEGIN:VEVENT
DTSTART;TZID=America/Chicago:20260218T120000
DTEND;TZID=America/Chicago:20260218T140000
DTSTAMP:20260423T045224
CREATED:20260109T213013Z
LAST-MODIFIED:20260109T213013Z
UID:5988-1771416000-1771423200@winlit.org
SUMMARY:Your Credit Score: What it Means for You
DESCRIPTION:Join us\, in partnership with Community First Credit Union\, for a new series of Financial Education Workshops focused on credit and debt. \nAll sessions will take place from 12-2 pm at the Oshkosh Public Library in Conference Room A/B Lower Level. \nAttendance at all 4 sessions is not required\, but recommended. Registration is required\, register here. \nSession 1: Your Credit Report: What it Means for Lenders\, Wednesday February 11th\nSession 2: Your Credit Score: What it Means for You\, Wednesday February 18th\nSession 3: Smart Rate Shopping: How to Find the Best Deal\, Wednesday March 4th\nSession 4: Take Control: Build and Manage Your Credit\, Wednesday March 11th
URL:https://winlit.org/event/your-credit-score-what-it-means-for-you/
LOCATION:Oshkosh Public Library\, 106 Washington Ave\, Oshkosh\, WI\, 54901
CATEGORIES:Financial Education Workshops,Special Programs
ORGANIZER;CN="The Winnebago Area Literacy Council":MAILTO:info@winlit.org
END:VEVENT
BEGIN:VEVENT
DTSTART;TZID=America/Chicago:20260211T120000
DTEND;TZID=America/Chicago:20260211T140000
DTSTAMP:20260423T045224
CREATED:20260109T212747Z
LAST-MODIFIED:20260109T212747Z
UID:5986-1770811200-1770818400@winlit.org
SUMMARY:Your Credit Report: What it Means for Lenders
DESCRIPTION:Join us\, in partnership with Community First Credit Union\, for a new series of Financial Education Workshops focused on credit and debt. \nAll sessions will take place from 12-2 pm at the Oshkosh Public Library in Conference Room A/B Lower Level. \nAttendance at all 4 sessions is not required\, but recommended. Registration is required\, register here. \nSession 1: Your Credit Report: What it Means for Lenders\, Wednesday February 11th\nSession 2: Your Credit Score: What it Means for You\, Wednesday February 18th\nSession 3: Smart Rate Shopping: How to Find the Best Deal\, Wednesday March 4th\nSession 4: Take Control: Build and Manage Your Credit\, Wednesday March 11th
URL:https://winlit.org/event/your-credit-report-what-it-means-for-lenders/
LOCATION:Oshkosh Public Library\, 106 Washington Ave\, Oshkosh\, WI\, 54901
CATEGORIES:Financial Education Workshops,Special Programs
ORGANIZER;CN="The Winnebago Area Literacy Council":MAILTO:info@winlit.org
END:VEVENT
BEGIN:VEVENT
DTSTART;VALUE=DATE:20251222
DTEND;VALUE=DATE:20260103
DTSTAMP:20260423T045224
CREATED:20251216T222229Z
LAST-MODIFIED:20251216T223334Z
UID:5308-1766361600-1767398399@winlit.org
SUMMARY:WALC Office Closed - No Classes
DESCRIPTION:From December 22 – January 2\, WALC will be closed in celebration of Christmas and New Years. We appreciate your support and understanding. Happy Holidays and best wishes to the new year!
URL:https://winlit.org/event/walc-office-closed-no-classes/
LOCATION:WI
CATEGORIES:Holiday Closure
ORGANIZER;CN="The Winnebago Area Literacy Council":MAILTO:info@winlit.org
END:VEVENT
BEGIN:VEVENT
DTSTART;TZID=UTC:20251119T163000
DTEND;TZID=UTC:20251119T180000
DTSTAMP:20260423T045224
CREATED:20251030T222512Z
LAST-MODIFIED:20251030T233637Z
UID:462-1763569800-1763575200@winlit.org
SUMMARY:The Fox Valley Newcomer Project - Immigration Learning Circle
DESCRIPTION:Join Pheonah Kisembo and Hilary Haskell for our last Immigration Learning Circle of the year!\nWednesday\, November 19 come learn more about Hope and Help Togethers initiative\, The Fox Valley Newcomer Project\, and see how they support and welcome newcomers to the community. Helping them grow\, get involved\, and build a welcoming community. \n\nTo register: https://forms.donorsnap.com/form… \n\n\nTo stay updated on our future learning circles: https://winlit.org/events/immigration-learning-circles/ \n\nOshkosh is one of the refugee resettlement cities in the Fox Valley Region\, and many immigrants and newcomers come through our door. Still\, many misconceptions and myths about immigrants and the complex US immigration system remain.\nTo offer guidance and foster community conversations on this topic\, WALC will be hosting monthly learning circles focused on all things immigration-related starting February 2025. The activities we will engage in these learning circles will range from teach-ins by invited speakers to facilitated group discussions moderated by our Executive Director Dr. Chu May Paing.\nTargeted audience: WALC staff\, teachers\, and volunteers\, Community members with interest in learning more about immigration and immigrants\, Community advocates who want to expand their knowledge about different immigrant cultures and to better develop cultural sensitivity when interacting with people from diverse backgrounds.
URL:https://winlit.org/event/the-fox-valley-newcomer-project-immigration-learning-circle/
LOCATION:WALC Learning Center\, 111 N Main St\, Suite 202\, Oshkosh\, WI\, 54901
ORGANIZER;CN="The Winnebago Area Literacy Council":MAILTO:info@winlit.org
END:VEVENT
BEGIN:VEVENT
DTSTART;TZID=UTC:20251119T130000
DTEND;TZID=UTC:20251119T150000
DTSTAMP:20260423T045224
CREATED:20251030T221403Z
LAST-MODIFIED:20251030T221403Z
UID:460-1763557200-1763564400@winlit.org
SUMMARY:Creating a Monthly Budget - a Financial Education Workshop series
DESCRIPTION:The Winnebago Area Literacy Council (WALC)\, in partnership with Community First Credit Union and the Oshkosh Public Library\, is offering a FREE three-part Financial Education Workshop series this November\, aimed at helping adults in the community better understand and manage their personal finances.\nThe workshops will be held at the Oshkosh Public Library (Conference Room A/B) on the following dates from 1:00 to 3:00 p.m.: \n– November 5: Understanding Your Finances– November 12: Spending and Budgeting Basics– November 19: Creating a Monthly Budget\nRegistration below is required. We kindly ask that interested participants sign up so we are able to provide necessary accommodations for translations\, childcare\, and transportation.
URL:https://winlit.org/event/creating-a-monthly-budget-a-financial-education-workshop-series/
LOCATION:Oshkosh Public Library\, 106 Washington Ave\, Oshkosh\, WI\, 54901
ORGANIZER;CN="The Winnebago Area Literacy Council":MAILTO:info@winlit.org
END:VEVENT
BEGIN:VEVENT
DTSTART;TZID=UTC:20251112T130000
DTEND;TZID=UTC:20251112T150000
DTSTAMP:20260423T045224
CREATED:20251030T221141Z
LAST-MODIFIED:20251030T221141Z
UID:458-1762952400-1762959600@winlit.org
SUMMARY:Spending and Budgeting Basics - a Financial Education Workshop series
DESCRIPTION:The Winnebago Area Literacy Council (WALC)\, in partnership with Community First Credit Union and the Oshkosh Public Library\, is offering a FREE three-part Financial Education Workshop series this November\, aimed at helping adults in the community better understand and manage their personal finances.\nThe workshops will be held at the Oshkosh Public Library (Conference Room A/B) on the following dates from 1:00 to 3:00 p.m.:\n– November 5: Understanding Your Finances– November 12: Spending and Budgeting Basics– November 19: Creating a Monthly Budget\nRegistration below is required. We kindly ask that interested participants sign up so we are able to provide necessary accommodations for translations\, childcare\, and transportation.
URL:https://winlit.org/event/spending-and-budgeting-basics-a-financial-education-workshop-series/
LOCATION:Oshkosh Public Library\, 106 Washington Ave\, Oshkosh\, WI\, 54901
ORGANIZER;CN="The Winnebago Area Literacy Council":MAILTO:info@winlit.org
END:VEVENT
BEGIN:VEVENT
DTSTART;TZID=UTC:20251105T130000
DTEND;TZID=UTC:20251105T150000
DTSTAMP:20260423T045224
CREATED:20251030T215310Z
LAST-MODIFIED:20251030T220829Z
UID:444-1762347600-1762354800@winlit.org
SUMMARY:Understanding your Finances - a Financial Education Workshop series
DESCRIPTION:The Winnebago Area Literacy Council (WALC)\, in partnership with Community First Credit Union and the Oshkosh Public Library\, is offering a FREE three-part Financial Education Workshop series this November\, aimed at helping adults in the community better understand and manage their personal finances.\nThe workshops will be held at the Oshkosh Public Library (Conference Room A/B) on the following dates from 1:00 to 3:00 p.m.:\n– November 5: Understanding Your Finances– November 12: Spending and Budgeting Basics– November 19: Creating a Monthly Budget\nRegistration below is required. We kindly ask that interested participants sign up so we are able to provide necessary accommodations for translations\, childcare\, and transportation.
URL:https://winlit.org/event/understanding-your-finances-a-financial-education-workshop-series/
LOCATION:Oshkosh Public Library\, 106 Washington Ave\, Oshkosh\, WI\, 54901
ORGANIZER;CN="The Winnebago Area Literacy Council":MAILTO:info@winlit.org
END:VEVENT
END:VCALENDAR